BEGIN:VCALENDAR
VERSION:2.0
PRODID:-//Springboard Enterprises - ECPv6.6.4.2//NONSGML v1.0//EN
CALSCALE:GREGORIAN
METHOD:PUBLISH
X-WR-CALNAME:Springboard Enterprises
X-ORIGINAL-URL:https://sb.co
X-WR-CALDESC:Events for Springboard Enterprises
REFRESH-INTERVAL;VALUE=DURATION:PT1H
X-Robots-Tag:noindex
X-PUBLISHED-TTL:PT1H
BEGIN:VTIMEZONE
TZID:America/New_York
BEGIN:DAYLIGHT
TZOFFSETFROM:-0500
TZOFFSETTO:-0400
TZNAME:EDT
DTSTART:20220313T070000
END:DAYLIGHT
BEGIN:STANDARD
TZOFFSETFROM:-0400
TZOFFSETTO:-0500
TZNAME:EST
DTSTART:20221106T060000
END:STANDARD
TZID:America/Los_Angeles
BEGIN:DAYLIGHT
TZOFFSETFROM:-0800
TZOFFSETTO:-0700
TZNAME:PDT
DTSTART:20220313T100000
END:DAYLIGHT
BEGIN:STANDARD
TZOFFSETFROM:-0700
TZOFFSETTO:-0800
TZNAME:PST
DTSTART:20221106T090000
END:STANDARD
TZID:America/Chicago
BEGIN:DAYLIGHT
TZOFFSETFROM:-0600
TZOFFSETTO:-0500
TZNAME:CDT
DTSTART:20220313T080000
END:DAYLIGHT
BEGIN:STANDARD
TZOFFSETFROM:-0500
TZOFFSETTO:-0600
TZNAME:CST
DTSTART:20221106T070000
END:STANDARD
END:VTIMEZONE
BEGIN:VEVENT
DTSTART;VALUE=DATE:20220601
DTEND;VALUE=DATE:20220602
DTSTAMP:20260420T071331
CREATED:20220518T163500Z
LAST-MODIFIED:20220629T211710Z
UID:4577-1654041600-1654127999@sb.co
SUMMARY:Dolphin Tank AgTech in the Triangle
DESCRIPTION:AgTech is Booming! In 2021\, investors ”plowed“ $4.9 billion into AgTech startups (a 45% increase over 2020). \n\n\n\nOn June 1\, 2022\, Springboard hosted Dolphin Tank AgTech in the Triangle. This was an exciting event because it was the first-ever Dolphin Tank focused on women entrepreneurs innovating in AgTech. \n\n\n\nFeaturing these four innovative founders:• Terry Chase\, EVO Conversion Systems• Hortense Dodo\, Ingateygen LLC• Jenny Filbey\, Mazen Animal Health – Oral Vaccines• Phoebe Snyder\, Optera \n\n\n\nWith these expert panelists:• Joy Parr Drach\, Advanced Animal Diagnostics• Karen LeVert\, Pappas Capital• Adrian Percy\, North Carolina State University• Giles Shih\, BioResource International\, Inc. \n\n\n\n\n\n\n\n\n\nThis event was presented by Springboard Enterprises in partnership with Pappas Capital\, NC IDEA\, N.C. Plant Sciences Initiative\, Rex Health Ventures\, and Alexandria LaunchLabs. \n\n\n\nSpringboard’s Dolphin Tank is a pitch event where women entrepreneurs receive constructive insights from investors and subject matter experts. Dolphin Tank is about channeling the expertise of the people in the room with a focus on one thing: ”How can we help?”
URL:https://sb.co/event/dolphin-tank-agtech-in-the-triangle/
LOCATION:Alexandria Center for AgTech\, The Alexandria Center for AgTech 5 Laboratory Dr.\, Durham\, NC\, 27709\, United States
CATEGORIES:Dolphin Tank,Event
ATTACH;FMTTYPE=image/png:https://sb.co/wp-content/uploads/DT-AgTech-in-the-Triangle-Featured-Image-on-Events-Website-765-×-430-px.png
END:VEVENT
BEGIN:VEVENT
DTSTART;TZID=America/New_York:20220525T120000
DTEND;TZID=America/New_York:20220525T131500
DTSTAMP:20260420T071331
CREATED:20220624T200109Z
LAST-MODIFIED:20220629T211730Z
UID:10796-1653480000-1653484500@sb.co
SUMMARY:Women's Health Forum Series: Bone Health and Aging
DESCRIPTION:Thank You for Attending!\n\n\n\nAccording to the Endocrine Society\, 1 in 2 postmenopausal women will have osteoporosis\, and most will suffer a fracture during their lifetime. \n\n\n\nOn Wednesday\, May 25th\, Springboard Enterprises and the Women’s Health Innovation Coalition hosted an event that broke the silence around women’s health as they age. We heard from the advocates and innovators in this space\, and the event was truly inspiring! \n\n\n\n\nWatch the Recording\n\n\n\n\nThe Patient’s Voice Panel featured: \n\n\n\nAndrea Portillo Medeiros\, Bone Health & Osteoporosis FoundationCheryl Birch Hostinak\, American Bone Health\n\n\n\nThe Founders & Funders panel featured: \n\n\n\nLiz Kwo\, MD\, MBA\, MPH\, Everly HealthSARAH DILLINGHAM\, Grace & AbleElaine Bolle\, PortfoliaLaura Yecies\, Bone Health TechnologiesKaren Drexler\, Bone Health Technologies and Astia Angels\n\n\n\n\nWatch the Recording\n\n\n\n\nAbout the Forum\n\n\n\nSpringboard Enterprises’ Women’s Health Innovation Coalition\, in partnership with Roche\, presents the 2022 Women’s Health Innovation Forum Series. \n\n\n\nThe Women’s Health Innovation Forum is a series of discussion sessions highlighting opportunities for investment in research and innovation in the field of women’s health. These events will shine a light on innovative solutions that address unmet needs in diseases\, conditions\, and indications that solely\, predominantly\, or differently impact the health of women.
URL:https://sb.co/event/womens-health-forum-series-bone-health-and-aging/
LOCATION:Virtual Event
CATEGORIES:Event,Women's Health
ATTACH;FMTTYPE=image/png:https://sb.co/wp-content/uploads/Womens-Health-Innovation-Coalition-Bone-Health-and-Aging.png
ORGANIZER;CN="Springboard Enterprises":MAILTO:stephanie@punchteam.com
END:VEVENT
BEGIN:VEVENT
DTSTART;VALUE=DATE:20220519
DTEND;VALUE=DATE:20220520
DTSTAMP:20260420T071331
CREATED:20220629T160302Z
LAST-MODIFIED:20220629T211741Z
UID:10926-1652918400-1653004799@sb.co
SUMMARY:Dolphin Tank: Daily Wellness Consumer Packaged Goods
DESCRIPTION:According to McKinsey & Company\, the wellness industry had a market size of $1.5 trillion by the end of 2021 with an expected growth rate of 5–10% on an annual basis. \n\n\n\nOn May 19\, 2022\, Springboard hosted Dolphin Tank: Daily Wellness Consumer Packaged Goods (CPG). Hosted in partnership with P&G Ventures\, this pitch event featured an exciting lineup of innovative founders and expert panelists. \n\n\n\nInnovative Founders\n\n\n\nInnate Biology\, Caitlin BeattyLisa Health\, Ann GarnierWile Women\, Gwendolyn Floyd\n\n\n\nExpert Panelists\n\n\n\nBetsy (Elizabeth) Bluestone\, P&G Ventures StudioBethany Edwards\, LIA DiagnosticsAdrianna Samaniego (she/her/ella)\, Female Founders FundHeather Myers\, Spark No. 9\n\n\n\nSpringboard’s Dolphin Tank is a pitch event that brings the power of our collective community to women entrepreneurs innovating in technology. Our Dolphin Tank events showcase exciting women-led companies and provide them with the opportunity for connections\, capital\, and insight from our audience of investors\, advisors\, and industry leaders.
URL:https://sb.co/event/dolphin-tank-daily-wellness/
CATEGORIES:Dolphin Tank,Event
ATTACH;FMTTYPE=image/png:https://sb.co/wp-content/uploads/FEATURED-IMAGE-Events-on-Website-Dolphin-Tank-CPG-PG-Ventures-on-gray.png
ORGANIZER;CN="Springboard Enterprises":MAILTO:stephanie@punchteam.com
END:VEVENT
BEGIN:VEVENT
DTSTART;VALUE=DATE:20220312
DTEND;VALUE=DATE:20220313
DTSTAMP:20260420T071331
CREATED:20220629T200846Z
LAST-MODIFIED:20220629T211828Z
UID:10975-1647043200-1647129599@sb.co
SUMMARY:Dolphin Tank: SXSW
DESCRIPTION:On March 19\, 2022\, Springboard brought Dolphin Tank back to SXSW live and in person! \n\n\n\nHosted in partnership with Project W\, Black & Brown Founders\, and The Female Quotient\, it was truly a spectacular event full of encouragement\, participation\, constructive comments\, and helpful ideas. That’s what Dolphin Tank is all about. \n\n\n\n\n\n\nSpecial thank you to our innovative founders and expert panelists: \n\n\n\nInnovative Founders\n\n\n\nAlana Libertad Cortés\, NetavoxMadison Long\, ClutchNatasia Malaihollo\, PopCom.\n\n\n\nExpert Panelists\n\n\n\nMelanie Broome\, Project WShelley Zalis\, The Female QuotientChris Denson\, MullenLowe U.S.Rakia Reynolds\, Skai Blue MediaAnna Consani\, Springboard Enterprises\n\n\n\n\n\n\nSpringboard’s Dolphin Tank is a pitch event that brings the power of our collective community to women entrepreneurs innovating in technology. Our Dolphin Tank events showcase exciting women-led companies and provide them with the opportunity for connections\, capital\, and insight from our audience of investors\, advisors\, and industry leaders.
URL:https://sb.co/event/dolphin-tank-sxsw/
LOCATION:Ariat Brand Shop\, 5034 Broadway Place\, Nashville\, TN\, 37203\, United States
CATEGORIES:Dolphin Tank,Event,Tech
ATTACH;FMTTYPE=image/png:https://sb.co/wp-content/uploads/FEATURED-IMAGE-Events-on-Website-Dolphin-Tank-SXSW.png
ORGANIZER;CN="Springboard Enterprises":MAILTO:stephanie@punchteam.com
END:VEVENT
BEGIN:VEVENT
DTSTART;VALUE=DATE:20220308
DTEND;VALUE=DATE:20220309
DTSTAMP:20260420T071331
CREATED:20220516T165746Z
LAST-MODIFIED:20220630T151816Z
UID:4590-1646697600-1646783999@sb.co
SUMMARY:Dolphin Tank: World Funding Women for International Women’s Day
DESCRIPTION:On March 8\, 2022\, We Celebrated International Women’s Day!\n\n\n\n3 Global Events. 9 Woman Innovators. 24 Hours.\n\n\n\nOn March 8\, 2022\, Springboard Enterprises\, the London Stock Exchange\, and SBE Australia came together to elevate\, promote and celebrate women entrepreneurs from around the world. \n\n\n\n\n\n\n\nWatch the Full Archived Recordings\n\n\n\nSydney. Tokyo. Beijing. London. Paris. Los Angeles. New York. On March 8\, the entire globe was invited to elevate\, promote and celebrate women entrepreneurs from around the world. We asked people to RSVP to join the global network supporting these businesses and come ready to share their connections and advice. \n\n\n\nAPACUK / EMEAUS / LATAMMarch 8th12:45am – 2:15am ESTWatch the RecordingMarch 8th9:15am – 10:45am ESTWatch the RecordingMarch 8th11:45am – 1:15pm EST Watch the Recording\n\n\n\nWatch the Short Video Recap\n\n\n\n\n\n\n\n\n\n\n\n\n\nSpringboard Enterprises and London Stock Exchange Host World Funding Women Event for International Women’s Day\n\n\n\nOrganizations Team Up to Showcase 9 Women Entrepreneurs and Founders to Global Audience\n\n\n\nWASHINGTON\, DC: MARCH 10\, 2021 – Springboard Enterprises and the London Stock Exchange came together on March 8 – International Women’s Day – to host World Funding Women\, a series of virtual events to elevate\, promote\, and celebrate women entrepreneurs from around the world. The two organizations hosted 3 virtual global events featuring 9 woman innovators during one 24-hour period. \n\n\n\n“For two decades\, Springboard has successfully worked to accelerate the growth of entrepreneurial companies founded and led by women\,” said Springboard Enterprises CEO Natalie Buford-Young. “We’re honored to showcase these 9 innovative women during such a highly visible global event like International Women’s Day and connect them with support and expertise to help them grow and scale their businesses.” \n\n\n\n“This year’s theme for International Women’s Day is ‘break the bias\,’” said London Stock Exchange CEO Julia Hoggett. “One of the themes we want to celebrate this week is female empowerment and entrepreneurship\, and to seek to directly address the bias that still exists in the access female entrepreneurs have to capital and therefore their own pathways to economic empowerment. Women are no less dynamic and have no fewer remarkable ideas\, and deserve to have an infrastructure around them to give them an equal opportunity to turn their ideas into tangible business outcomes.” \n\n\n\n3 Global Events and 9 Innovative Entrepreneurs in 24 HoursShowcasing the ingenuity and innovation of women entrepreneurs building exciting new companies\, the three virtual events included separate sessions for the APAC\, EMEA\, and US/LATAM global regions. Participating companies included: \n\n\n\nAPAC (Europe\, Middle East\, and Africa)Rashmi Chandra\, Director\, eGyanamTechAbhilasha Purwar\, Founder & CEO\, Blue Sky AnalyticsBarbara Sharp\, Co-Founder & CEO\, PlaetosWatch the RecordingEMEA (Europe\, Middle East\, and Africa)Sabine Dembkowski\, Managing Partner\, Better Boards Ltd.Neta Schreiber Gamliel\, Co-Founder & CEO\, SafeUPUju Uzo-Ojinnaka\, CEO\, Traders of Africa (TofA)Watch the RecordingUS/LATAM (United States & Latin America)Greta Geankoplis\, CEO\, Stratus Digital SystemsDawn Jutla\, Founder & Co-CEO\, Peer Ledger Inc.Mary Kopczynski\, Founder & CEO\, RegAlyticsWatch the Recording\n\n\n\nSpringboard Helps Women Entrepreneurs and Founders Grow and Scale Their BusinessesAs they pitched their companies to a panel of experts\, several of the entrepreneurs explained how participating in a Springboard innovation cohort helped them grow and scale their businesses. \n\n\n\n“Springboard helped us by providing us the expertise in areas we needed help the most\,” said RegAlytics Founder and CEO Mary Kopczynski\, J.D./Ph.D. “Just one conversation with a Springboard Advisor that was hand-selected for us really helped us re-think the way we were marketing the product.  It made all the difference in helping us triple revenue three years in a row.” \n\n\n\n“Springboard and its sponsors and collaborating partners\, such as Project W\, have been a key support system for me\,” said Peer Ledger Founder and CEO Dawn Jutla. “I’ve been delighted to obtain introductions to extraordinary women\, great ideas\, and valuable feedback as Peer Ledger grows its ESG platform.” \n\n\n\n“Springboard sharpened my vision for my company\, facilitated and made key introductions\, and most importantly\, continues to renew my faith to persevere\, despite barriers and obstacles\,” said Stratus Digital Systems CEO Greta Geankoplis. “Thank you\, Team Springboard!” \n\n\n\nAbout Springboard EnterprisesSpringboard’s mission is to accelerate the growth of entrepreneurial companies led by women through access to essential resources and a global community of experts. It is the leading network of influencers\, investors\, and innovators dedicated to building high-growth companies led by women who are transforming industries in technology and life science. The measure of our success is in the results. Since its founding in 2000\, 850+ Springboard portfolio companies have created more than $36 billion in value\, executed over 225 exits to strategic acquirers\, and achieved 26 IPOs. Learn more at springboardenterprises.org. \n\n\n\nAbout International Women’s DayInternational Women’s Day (March 8) is a global day celebrating the social\, economic\, cultural\, and political achievements of women. The day also marks a call to action for accelerating women’s equality. IWD has occurred for well over a century\, with the first IWD gathering in 1911 supported by over a million people. Today\, IWD belongs to all groups collectively everywhere. IWD is not country\, group\, or organization specific. #IWD2022 #BreakTheBiaa
URL:https://sb.co/event/world-funding-women-international-womens-day-2022/
LOCATION:Virtual Event
CATEGORIES:Dolphin Tank,Event,International Women's Day
ATTACH;FMTTYPE=image/png:https://sb.co/wp-content/uploads/FEATURED-IMAGE-Events-on-Website-International-Womens-Day-2022-IWD.png
ORGANIZER;CN="Springboard Enterprises":MAILTO:stephanie@punchteam.com
END:VEVENT
BEGIN:VEVENT
DTSTART;VALUE=DATE:20220210
DTEND;VALUE=DATE:20220211
DTSTAMP:20260420T071331
CREATED:20220629T205812Z
LAST-MODIFIED:20220630T143631Z
UID:11000-1644451200-1644537599@sb.co
SUMMARY:Dolphin Tank: Retail Tech
DESCRIPTION:On February 10\, 2022\, Springboard hosted Dolphin Tank: Retail Tech. Hosted in partnership with Accenture and Black Girl Ventures\, this pitch event featured an exciting lineup of innovative Black women founders and expert panelists. \n\n\n\nSpecial thank you to our innovative founders and expert panelists:   \n\n\n\nInnovative Founders\n\n\n\nBarbara Jones-Brown\, Lillii RNB IncTina Esho\, The Fitting RoomAbiola Doherty\, LanorOnanma Okeke\, LanorKaren Williams\, Savitude\n\n\n\n\n\n\n\nExpert Panelists\n\n\n\nAnna Consani\, Springboard EnterprisesErin Wilson\, AccentureFelicia Williamsr\, Macy’s\, Inc.Karen Moon\, Suttona Capital\n\n\n\n\n\n\n\nSpringboard’s Dolphin Tank is a pitch event that brings the power of our collective community to women entrepreneurs innovating in technology. Our Dolphin Tank events showcase exciting women-led companies and provide them with the opportunity for connections\, capital\, and insight from our audience of investors\, advisors\, and industry leaders.
URL:https://sb.co/event/dolphin-tank-retail-tech/
LOCATION:Virtual Event
CATEGORIES:Dolphin Tank,Event,Retail Tech
ATTACH;FMTTYPE=image/png:https://sb.co/wp-content/uploads/FEATURED-IMAGE-Events-on-Website-Digital-Health-Feb-10-2022.png
ORGANIZER;CN="Springboard Enterprises":MAILTO:stephanie@punchteam.com
END:VEVENT
BEGIN:VEVENT
DTSTART;VALUE=DATE:20220208
DTEND;VALUE=DATE:20220209
DTSTAMP:20260420T071331
CREATED:20220629T204659Z
LAST-MODIFIED:20220630T143606Z
UID:10988-1644278400-1644364799@sb.co
SUMMARY:Dolphin Tank: Digital Health
DESCRIPTION:On February 8\, 2022\, Springboard hosted Dolphin Tank: Digital Health. Hosted in partnership with Accenture and Black Girl Ventures\, this pitch event featured an exciting lineup of innovative Black women founders and expert panelists. \n\n\n\nSpecial thank you to our innovative founders and expert panelists:   \n\n\n\nInnovative Founders\n\n\n\nLecresha Sewell\, Melanated Healthcare®Tammy Williams\, Envision2bWell IncCynthia Nwaubani\, PharmD LiveHafeezah Muhammad\, Youme Healthcare.\n\n\n\n\n\n\n\nExpert Panelists\n\n\n\nMichelle Anschuet\, AccentureNikhi Kasibhotla\, AccentureNicole Walker\, Arboretum VenturesJaclynn Maxwell Hudson\, Black Girl Ventures\n\n\n\n\n\n\n\nSpringboard’s Dolphin Tank is a pitch event that brings the power of our collective community to women entrepreneurs innovating in technology. Our Dolphin Tank events showcase exciting women-led companies and provide them with the opportunity for connections\, capital\, and insight from our audience of investors\, advisors\, and industry leaders.
URL:https://sb.co/event/dolphin-tank-digital-health/
LOCATION:Virtual Event
CATEGORIES:Digital Health,Dolphin Tank,Event
ATTACH;FMTTYPE=image/png:https://sb.co/wp-content/uploads/FEATURED-IMAGE-Events-on-Website-Digital-Health-Feb-8-2022.png
ORGANIZER;CN="Springboard Enterprises":MAILTO:stephanie@punchteam.com
END:VEVENT
END:VCALENDAR