BEGIN:VCALENDAR
VERSION:2.0
PRODID:-//Springboard Enterprises - ECPv6.6.4.2//NONSGML v1.0//EN
CALSCALE:GREGORIAN
METHOD:PUBLISH
X-ORIGINAL-URL:https://sb.co
X-WR-CALDESC:Events for Springboard Enterprises
REFRESH-INTERVAL;VALUE=DURATION:PT1H
X-Robots-Tag:noindex
X-PUBLISHED-TTL:PT1H
BEGIN:VTIMEZONE
TZID:America/New_York
BEGIN:DAYLIGHT
TZOFFSETFROM:-0500
TZOFFSETTO:-0400
TZNAME:EDT
DTSTART:20260308T070000
END:DAYLIGHT
BEGIN:STANDARD
TZOFFSETFROM:-0400
TZOFFSETTO:-0500
TZNAME:EST
DTSTART:20261101T060000
END:STANDARD
END:VTIMEZONE
BEGIN:VEVENT
DTSTART;TZID=America/New_York:20260611T170000
DTEND;TZID=America/New_York:20260611T200000
DTSTAMP:20260423T073018
CREATED:20260317T170728Z
LAST-MODIFIED:20260317T171802Z
UID:17298-1781197200-1781208000@sb.co
SUMMARY:2026 DMV Dolphin Tank:
DESCRIPTION:Springboard in partnership with Arlington Economic Development and Deloitte are bringing Dolphin Tank to the DMV. \n\n\n\nSpringboard’s Dolphin Tank pitch event brings the power of our collective community to women entrepreneurs innovating in enterprise Tech. Our Dolphin Tank events showcase exciting women-led companies and provide them with the opportunity for connections\, capital\, and insight from our audience of investors\, advisors\, and industry leaders. For 26 years\, Springboard has been surrounding women with what they need to lead and succeed. \n\n\n\nWe’re looking for the best and brightest women-led tech startups\, apply to pitch their companies or join us as an audience member to support and engage with innovative women-led businesses. \n\n\n\nFor questions or additional information\, please email Rachel Rong\, Director of Community\, at rachel@springboardenterprises.org. \n\n\n\n\nRSVP Now\n\n\n\nApply to Pitch\n\n\n\n\n\n\n\n\nWhen and Where\n\n\n\nThursday\, June 11\, 2026 \n\n\n\n5:00 – 8:00 PM ET \n\n\n\nLocation: Deloitte HQ\, Rosslyn\, VA\, USA \n\n\n\nHow Dolphin Tank Works\n\n\n\nWhile the venues and audiences may vary\, every Dolphin Tank shares these core elements: \n\n\n\n\nEntrepreneurs and their companies are selected via an application process.\n\n\n\nPresenters deliver a three-minute pitch addressing a challenge or unique opportunity.\n\n\n\nSolutions\, connections\, strategies\, and opportunities for investment are crowdsourced from the audience.\n\n\n\n\n\nRSVP Now\n\n\n\nApply to Pitch\n\n\n\n\nEvent Partners\n\n\n\n\n\n\n\nInterested in partnerships or have any questions?\n\n\n\nEmail Rachel Rong\, Director of Community for Springboard Enterprises at rachel@springboardenterprises.org.
URL:https://sb.co/event/2026-dmv-dolphin-tank/
CATEGORIES:Dolphin Tank,Event
ATTACH;FMTTYPE=image/jpeg:https://sb.co/wp-content/uploads/2.jpg
ORGANIZER;CN="Springboard Enterprises":MAILTO:stephanie@punchteam.com
END:VEVENT
END:VCALENDAR