BEGIN:VCALENDAR
VERSION:2.0
PRODID:-//Springboard Enterprises - ECPv6.6.4.2//NONSGML v1.0//EN
CALSCALE:GREGORIAN
METHOD:PUBLISH
X-ORIGINAL-URL:https://sb.co
X-WR-CALDESC:Events for Springboard Enterprises
REFRESH-INTERVAL;VALUE=DURATION:PT1H
X-Robots-Tag:noindex
X-PUBLISHED-TTL:PT1H
BEGIN:VTIMEZONE
TZID:America/Los_Angeles
BEGIN:DAYLIGHT
TZOFFSETFROM:-0800
TZOFFSETTO:-0700
TZNAME:PDT
DTSTART:20250309T100000
END:DAYLIGHT
BEGIN:STANDARD
TZOFFSETFROM:-0700
TZOFFSETTO:-0800
TZNAME:PST
DTSTART:20251102T090000
END:STANDARD
TZID:America/New_York
BEGIN:DAYLIGHT
TZOFFSETFROM:-0500
TZOFFSETTO:-0400
TZNAME:EDT
DTSTART:20250309T070000
END:DAYLIGHT
BEGIN:STANDARD
TZOFFSETFROM:-0400
TZOFFSETTO:-0500
TZNAME:EST
DTSTART:20251102T060000
END:STANDARD
END:VTIMEZONE
BEGIN:VEVENT
DTSTART;TZID=America/Los_Angeles:20250113T083000
DTEND;TZID=America/Los_Angeles:20250113T103000
DTSTAMP:20260422T081006
CREATED:20241121T152356Z
LAST-MODIFIED:20250106T193541Z
UID:15310-1736757000-1736764200@sb.co
SUMMARY:JPM Healthcare 2025: Springboard and Accenture Breakfast Session
DESCRIPTION:Join us for our annual breakfast and networking event at the J.P. Morgan Health Conference on Monday\, January 13\, 8:30 AM – 10:30 AM PT in San Francisco\, California! Together\, let’s discuss how we can propel advancements in women’s health and build a healthier future for all. In partnership with Accenture\, we are excited to unveil Part 2 of the State of Women’s Health Report. This comprehensive report sheds light on critical areas in women’s health that demand innovation and funding to drive meaningful change. We look forward to your participation in this important conversation! \n\n\n\n\nBreakfast Event Wait List\n\n\n\n\n\n\n\n\nSponsored By\n\n\n\n\n\n\n\n\n\n\n\nInterested in partnerships or have any questions? \n\n\n\nEmail Rachel Rong\, Director of Operations for Springboard Enterprises at rachel@springboardenterprises.org.
URL:https://sb.co/event/jpmhealthcare-conference-breakfast-networking-event/
LOCATION:Accenture Salesforce Tower\, 415 Mission St\, San Francisco\, CA\, 94105\, United States
CATEGORIES:Digital Health,Event
ATTACH;FMTTYPE=image/png:https://sb.co/wp-content/uploads/JPM-2025-Save-the-Date-1200-x-628-px.png
ORGANIZER;CN="Springboard Enterprises":MAILTO:stephanie@punchteam.com
END:VEVENT
BEGIN:VEVENT
DTSTART;TZID=America/New_York:20250114T084500
DTEND;TZID=America/New_York:20250114T120000
DTSTAMP:20260422T081006
CREATED:20241121T171140Z
LAST-MODIFIED:20241206T193635Z
UID:15322-1736844300-1736856000@sb.co
SUMMARY:2024 Healthcare and Technology Accelerator Showcase and Demo Day
DESCRIPTION:Springboard’s Healthcare & Technology Demo Day Showcase will feature exciting women innovators from our 2024 Healthcare & Technology cohort. Join us for their inspiring presentations followed by feedback and insight from our expert panel and audience.  \n\n\n\nIf you want to see what’s next in healthcare and technology or network with the broader Springboard community\, join us! \n\n\n\n\nRSVP to Attend\n\n\n\n\n\n\n\n\nWhen and Where\n\n\n\n\nTuesday\, January 14\, 2025 \n\n\n\n8:45 AM to 12:00 PM PT \n\n\n\nDeloitte Offices San Francisco\, 555 Mission St Ste 1400\, San Francisco\, CA 94105 \n\n\n\n\n\n\n\n\nSponsored By\n\n\n\n\n\n\n\n\n\n\n\n\n\n\n\n\n\nInterested in partnerships or have any questions?\n\n\n\nEmail Miranda Ewald\, Director of Programs for Springboard Enterprises at miranda@springboardenterprises.org.
URL:https://sb.co/event/2024-healthcare-and-technology-accelerator-showcase-and-demo-day/
LOCATION:Deloitte Office\, 555 Mission St Ste 1400\, San Francisco\, CA\, 94105\, United States
CATEGORIES:Accelerators,Event,Public,Tech,Women's Health
ATTACH;FMTTYPE=image/png:https://sb.co/wp-content/uploads/HT-DD.png
ORGANIZER;CN="Springboard Enterprises":MAILTO:stephanie@punchteam.com
END:VEVENT
BEGIN:VEVENT
DTSTART;TZID=America/New_York:20250123T140000
DTEND;TZID=America/New_York:20250123T150000
DTSTAMP:20260422T081006
CREATED:20250113T162149Z
LAST-MODIFIED:20250122T194845Z
UID:15381-1737640800-1737644400@sb.co
SUMMARY:Virtual Workshop: Finding Message - Market Fit
DESCRIPTION:Springboard Enterprise and thoughtbot invite you to join us for a virtual workshop: \n\n\n\nMessage-Market Fit is an important foundation for your business and that is achieved by clearly researching and defining where you fit in the market. We will walk through the starting points we recommend to startups including defining their critical path\, target audience\, and potential market segments\, and as we put those elements together\, capture assumptions along the way. Then we shift into how to conduct quality\, iterative\, and efficient research through Customer Discovery Sprints which we’ve boiled down into four steps that are easy to repeat. \n\n\n\nIn this live\, online event we’ll be discussing: \n\n\n\n\nHow to simplify your vision and define the foundational elements that become your true north\n\n\n\nHow to reach\, interview\, and observe target customers\n\n\n\nHow to test your message at scale\n\n\n\n\nThis event is great for teams who are: \n\n\n\n\nPreparing or navigating fundraising\n\n\n\nLooking to improve or start customer research\n\n\n\nChallenged with going from lots of ideas into (the right) single starting point\n\n\n\n\n\nRegister Now\n\n\n\n\n\n\n\n\nWhen and Where\n\n\n\n\nThursday\, January 23rd\, 2025 \n\n\n\n2:00 PM to 3:00 PM EST \n\n\n\nVirtual – Google Meet \n\n\n\n\n\n\n\n\nQuestions?\n\n\n\nEmail Rosemary Nnaji\, Marketing & Community Associate for Springboard Enterprises at rosemary.nnaji@springboardenterprises.org
URL:https://sb.co/event/virtual-workshop-finding-message-market-fit/
CATEGORIES:Accelerators,Event,Public,Tech,Women's Health
ATTACH;FMTTYPE=image/png:https://sb.co/wp-content/uploads/Market-Fit-Workshop.png
ORGANIZER;CN="Springboard Enterprises":MAILTO:stephanie@punchteam.com
END:VEVENT
END:VCALENDAR